BEGIN:VCALENDAR
VERSION:2.0
PRODID:-//Squarespace Inc/Squarespace 6//v6//EN
BEGIN:VEVENT
UID:5b0bab576d2a73781c2e7b66@squarespace.com
DTSTAMP:20200429T031802Z
DTSTART:20181006T083000Z
DTEND:20181006T093000Z
SUMMARY:Fireworks Show
END:VEVENT
END:VCALENDAR
