BEGIN:VCALENDAR
VERSION:2.0
PRODID:-//Squarespace Inc/Squarespace 6//v6//EN
BEGIN:VEVENT
UID:5ac6f8da6d2a7394c94ca230@squarespace.com
DTSTAMP:20190905T044650Z
DTSTART:20180914T230000Z
DTEND:20180915T040000Z
SUMMARY:Riverside Markets are on again!
END:VEVENT
END:VCALENDAR
