BEGIN:VCALENDAR
VERSION:2.0
PRODID:-//Squarespace Inc/Squarespace 6//v6//EN
BEGIN:VEVENT
UID:5ac31214562fa73cd892f7df@squarespace.com
DTSTAMP:20200429T031802Z
DTSTART:20180809T090000Z
DTEND:20180809T110000Z
SUMMARY:JAG meeting
END:VEVENT
END:VCALENDAR
