BEGIN:VCALENDAR
VERSION:2.0
PRODID:-//Squarespace Inc/Squarespace 6//v6//EN
BEGIN:VEVENT
UID:5b0baa34352f53c0a531efa5@squarespace.com
DTSTAMP:20200429T031802Z
DTSTART:20180721T073000Z
DTEND:20180722T083000Z
SUMMARY:Polocrosse Carnival
END:VEVENT
END:VCALENDAR
