BEGIN:VCALENDAR
VERSION:2.0
PRODID:-//Squarespace Inc/Squarespace 6//v6//EN
BEGIN:VEVENT
UID:5b0babf970a6addca9d6ef13@squarespace.com
DTSTAMP:20200429T031802Z
DTSTART:20190323T063000Z
DTEND:20190324T073000Z
SUMMARY:Jugiong Writers Festival
END:VEVENT
END:VCALENDAR
