BEGIN:VCALENDAR
VERSION:2.0
PRODID:-//Squarespace Inc/Squarespace 6//v6//EN
BEGIN:VEVENT
UID:5d70933a8ed3500001a365a8@squarespace.com
DTSTAMP:20190905T050904Z
DTSTART:20190927T230000Z
DTEND:20190928T040000Z
SUMMARY:Gather Jugiong Artisan Markets
GEO:-34.820983;148.352267
LOCATION:1 Riverside Drive\, Jugiong\, NSW\, 2726\, Australia
END:VEVENT
END:VCALENDAR
