BEGIN:VCALENDAR
VERSION:2.0
PRODID:-//Squarespace Inc/Squarespace 6//v6//EN
BEGIN:VEVENT
UID:5d70954e3abbbf0001b4fa9c@squarespace.com
DTSTAMP:20200429T031802Z
DTSTART:20191004T230000Z
DTEND:20191005T040000Z
SUMMARY:Graze Jugiong Food &amp\; Wine Market
GEO:-34.820983;148.352267
LOCATION:1 Riverside Drive\, Jugiong\, NSW\, 2726\, Australia
END:VEVENT
END:VCALENDAR
