BEGIN:VCALENDAR
VERSION:2.0
PRODID:-//Squarespace Inc/Squarespace 6//v6//EN
BEGIN:VEVENT
UID:5dbfa3c65dce6b050bf0a867@squarespace.com
DTSTAMP:20200429T031802Z
DTSTART:20191129T220000Z
DTEND:20191130T030000Z
SUMMARY:Christmas Markets - Gather &amp\; Graze
END:VEVENT
END:VCALENDAR
