BEGIN:VCALENDAR
VERSION:2.0
PRODID:-//Squarespace Inc/Squarespace 6//v6//EN
BEGIN:VEVENT
UID:5cc98dbbd90fb2000166bb63@squarespace.com
DTSTAMP:20200429T031802Z
DTSTART:20191122T230000Z
DTEND:20191124T050000Z
SUMMARY:Jugiong Art Exhibition
GEO:-34.813239;148.333904
LOCATION:Jugiong\, Australia
END:VEVENT
END:VCALENDAR
