BEGIN:VCALENDAR
VERSION:2.0
PRODID:-//Squarespace Inc/Squarespace 6//v6//EN
BEGIN:VEVENT
UID:5dbf56bac85da67954d5908e@squarespace.com
DTSTAMP:20200429T031802Z
DTSTART:20191101T040000Z
DTEND:20191103T030000Z
SUMMARY:Jugiong Carpathon
END:VEVENT
END:VCALENDAR
