BEGIN:VCALENDAR
VERSION:2.0
PRODID:-//Squarespace Inc/Squarespace 6//v6//EN
BEGIN:VEVENT
UID:5dbf547b5dce6b050bea1636@squarespace.com
DTSTAMP:20200429T031802Z
DTSTART:20191109T230000Z
DTEND:20191110T040000Z
SUMMARY:Open Garden
END:VEVENT
END:VCALENDAR
